BEGIN:VCALENDAR
VERSION:2.0
PRODID:-//Med Ed Leaders - ECPv6.15.18//NONSGML v1.0//EN
CALSCALE:GREGORIAN
METHOD:PUBLISH
X-ORIGINAL-URL:https://mededleaders.co.uk
X-WR-CALDESC:Events for Med Ed Leaders
REFRESH-INTERVAL;VALUE=DURATION:PT1H
X-Robots-Tag:noindex
X-PUBLISHED-TTL:PT1H
BEGIN:VTIMEZONE
TZID:Europe/London
BEGIN:DAYLIGHT
TZOFFSETFROM:+0000
TZOFFSETTO:+0100
TZNAME:BST
DTSTART:20220327T010000
END:DAYLIGHT
BEGIN:STANDARD
TZOFFSETFROM:+0100
TZOFFSETTO:+0000
TZNAME:GMT
DTSTART:20221030T010000
END:STANDARD
BEGIN:DAYLIGHT
TZOFFSETFROM:+0000
TZOFFSETTO:+0100
TZNAME:BST
DTSTART:20230326T010000
END:DAYLIGHT
BEGIN:STANDARD
TZOFFSETFROM:+0100
TZOFFSETTO:+0000
TZNAME:GMT
DTSTART:20231029T010000
END:STANDARD
BEGIN:DAYLIGHT
TZOFFSETFROM:+0000
TZOFFSETTO:+0100
TZNAME:BST
DTSTART:20240331T010000
END:DAYLIGHT
BEGIN:STANDARD
TZOFFSETFROM:+0100
TZOFFSETTO:+0000
TZNAME:GMT
DTSTART:20241027T010000
END:STANDARD
END:VTIMEZONE
BEGIN:VEVENT
DTSTART;TZID=Europe/London:20230703T090000
DTEND;TZID=Europe/London:20230703T163000
DTSTAMP:20260421T195008
CREATED:20230323T085206Z
LAST-MODIFIED:20230602T071220Z
UID:242444-1688374800-1688401800@mededleaders.co.uk
SUMMARY:Leading for the Future
DESCRIPTION:Join us at a 1 day summit focusing on medical leadership – in education and beyond!\nHear from current senior leaders reflecting on their journey so far and future plans – and hear from peers across the NHS who have improved working life through their innovations. \nSubmit an abstract for your chance to present and win a prize – submissions deadline reached – now closed \nRegistration includes a year’s associate membership (for trainees) to Medical Education Leaders UK – supporting leaders and championing improvements in medical and dental education. \n			\n			\n				\n				\n				\n				\n			\n				\n				\n			\n				\n				\n				\n				\n				\n				\n				\n				\n				\n				\n				\n				\n				\n				\n				\n				\n				\n				Abstract submissions now closedWe will shortlist abstracts submitted to present at our event on Monday 3rd July 2023 at the Voco Oxford Spires Hotel \n				\n			\n				Click Here to download Programme\n			\n				Click Here to download registration form\n			\n			\n				\n				\n				\n				\n			\n				\n				\n				\n				\n				\n				\n				\n				\n				\n				\n				Programme\n\n\n09:00-09:30\nRegistration and Tea/Coffee\n\n\n09:30-09:45\nWelcome\n\n\n09:45-10:15\nSupporting Medical Education Leadership: the SE Deans’ view – Dr Paul Sadler and Professor Jo Szram\, Postgraduate Deans\n\n\n10:15-10:45\nHow to set up your network – Dr Diluxshy Elangaratnam\, Chair\, MedEdLeaders UK Shadow Council\n\n\n10:45-11:15\nMy educational leadership journey to Medical School Dean – Professor Juliet Wright\, Medical School Dean\, University of Surrey\n\n\n11:15-11:30\nTea/Coffee Break\n\n\n11:30-12:45\nSpoken presentations with Q and A\n\n\n12:45-13:30\nLunch\n\n\n13:30-14:30\nGMC: Fairer Training Cultures – Professor Sue Carr\, Deputy Medical Director\, General Medical Council\n\n\n14:30-15:45\nSpoken Presentations with Q and A\n\n\n15:45-16:05\nTea/Coffee Break\n\n\n16:05-16:15\nAwards\n\n\n16:15-16:30\nFinal reflections and next steps\n\n\n16:30\nClose
URL:https://mededleaders.co.uk/event/leading-for-the-future/
LOCATION:Voco Oxford Spires Hotel\, Abingdon Road\, Oxford\, OX1 4PS\, United Kingdom
CATEGORIES:Leadership Training,National meetings
END:VEVENT
END:VCALENDAR